



BEGIN:VCALENDAR
VERSION:2.0
PRODID:-//wp-events-plugin.com//7.2.3.1//EN
TZID:Europe/Berlin
X-WR-TIMEZONE:Europe/Berlin
BEGIN:VEVENT
UID:51@ihvv.de
DTSTART;TZID=Europe/Berlin:20261121T090000
DTEND;TZID=Europe/Berlin:20261122T160000
DTSTAMP:20260328T215616Z
URL:https://ihvv.de/events/selbsthypnose-aufbau-seminar-2/
SUMMARY:Selbsthypnose Aufbau-Seminar
DESCRIPTION:Dieses 2-Tages-Seminar richtet sich an Absolventinnen der Selbs
 thypnose-Basisausbildung\, die ihre Techniken gezielt erweitern und vertie
 fen möchten – für sich selbst oder zur Weitergabe an Klientinnen. Mit 
 neuen Induktions- und Vertiefungsmethoden\, Ankerarbeit und individuellen 
 Suggestionen wird die Selbsthypnose alltagstauglich geschärft und an pers
 önliche Themen angepasst.
ATTACH;FMTTYPE=image/jpeg:https://ihvv.de/wp-content/uploads/2025/07/DSC08
 096-Klein.jpg
CATEGORIES:Selbsthypnose
LOCATION:Hypnoseinstitut Neuruppin\, Karl-Marx-Str. 40\, Neuruppin\, 16816\
 , Deutschland
X-APPLE-STRUCTURED-LOCATION;VALUE=URI;X-ADDRESS=Karl-Marx-Str. 40\, Neurupp
 in\, 16816\, Deutschland;X-APPLE-RADIUS=100;X-TITLE=Hypnoseinstitut Neurup
 pin:geo:0,0
END:VEVENT
BEGIN:VTIMEZONE
TZID:Europe/Berlin
X-LIC-LOCATION:Europe/Berlin
BEGIN:STANDARD
DTSTART:20261025T020000
TZOFFSETFROM:+0200
TZOFFSETTO:+0100
TZNAME:CET
END:STANDARD
END:VTIMEZONE
END:VCALENDAR